BEGIN:VCALENDAR
VERSION:2.0
PRODID:-//Karate Western Australia - ECPv5.12.2//NONSGML v1.0//EN
CALSCALE:GREGORIAN
METHOD:PUBLISH
X-WR-CALNAME:Karate Western Australia
X-ORIGINAL-URL:https://karatewestaustralia.com
X-WR-CALDESC:Events for Karate Western Australia
REFRESH-INTERVAL;VALUE=DURATION:PT1H
X-Robots-Tag:noindex
X-PUBLISHED-TTL:PT1H
BEGIN:VTIMEZONE
TZID:Asia/Shanghai
BEGIN:STANDARD
TZOFFSETFROM:+0800
TZOFFSETTO:+0800
TZNAME:CST
DTSTART:20260101T000000
END:STANDARD
END:VTIMEZONE
BEGIN:VEVENT
DTSTART;TZID=Asia/Shanghai:20260410T080000
DTEND;TZID=Asia/Shanghai:20260412T170000
DTSTAMP:20260420T083846
CREATED:20251213T003217Z
LAST-MODIFIED:20251213T003217Z
UID:6266-1775808000-1776013200@karatewestaustralia.com
SUMMARY:Karate Australia - Aus Open Tournament
DESCRIPTION:Karate Australia – Aus Open Tournament \nWhitlam Centre\, Liverpool. Sydney NSW \n 
URL:https://karatewestaustralia.com/event/karate-australia-aus-open-tournament/
LOCATION:Whitlam Leisure Centre\, 90 Memorial Ave\, Liverpool NSW 2170\, Australia
CATEGORIES:Tournaments
END:VEVENT
BEGIN:VEVENT
DTSTART;VALUE=DATE:20260322
DTEND;VALUE=DATE:20260323
DTSTAMP:20260420T083846
CREATED:20251213T000021Z
LAST-MODIFIED:20251213T000138Z
UID:6258-1774137600-1774223999@karatewestaustralia.com
SUMMARY:Karate WA State Championships
DESCRIPTION:Karate WA State Championships \nGold Netball Centre \nOpen Divisions Only \n 
URL:https://karatewestaustralia.com/event/karate-wa-state-championships/
LOCATION:Gold Netball Stadium\, 200 Selby St\, Jolimont WA 6014\, Australia
CATEGORIES:State Squad,State Team,Tournaments
ATTACH;FMTTYPE=image/png:https://karatewestaustralia.com/wp-content/uploads/2025/06/Karate-WA-Logo-Portrait-1.png
ORGANIZER;CN="Karate%20WA":MAILTO:coordinator@karatewestaustralia.com
END:VEVENT
END:VCALENDAR